BEGIN:VCALENDAR
VERSION:2.0
PRODID:-//Real Hermandad Servita - ECPv5.2.1//NONSGML v1.0//EN
CALSCALE:GREGORIAN
METHOD:PUBLISH
X-WR-CALNAME:Real Hermandad Servita
X-ORIGINAL-URL:https://realhermandadservita.com
X-WR-CALDESC:Eventos para Real Hermandad Servita
BEGIN:VTIMEZONE
TZID:Europe/Madrid
BEGIN:DAYLIGHT
TZOFFSETFROM:+0100
TZOFFSETTO:+0200
TZNAME:CEST
DTSTART:20250330T010000
END:DAYLIGHT
BEGIN:STANDARD
TZOFFSETFROM:+0200
TZOFFSETTO:+0100
TZNAME:CET
DTSTART:20251026T010000
END:STANDARD
END:VTIMEZONE
BEGIN:VEVENT
DTSTART;TZID=Europe/Madrid:20250622T100000
DTEND;TZID=Europe/Madrid:20250622T133000
DTSTAMP:20260422T142537
CREATED:20250311T095356Z
LAST-MODIFIED:20250311T095356Z
UID:5851-1750586400-1750599000@realhermandadservita.com
SUMMARY:Jubileo Circular en la Real Hermandad Servita
DESCRIPTION:Jubileo Circular en la Real Hermandad Servita
URL:https://realhermandadservita.com/event/jubileo-circular-en-la-real-hermandad-servita-2
END:VEVENT
BEGIN:VEVENT
DTSTART;TZID=Europe/Madrid:20250622T180000
DTEND;TZID=Europe/Madrid:20250622T203000
DTSTAMP:20260422T142537
CREATED:20250312T083150Z
LAST-MODIFIED:20250312T083150Z
UID:5859-1750615200-1750624200@realhermandadservita.com
SUMMARY:Jubileo Circular en la Real Hermandad Servita
DESCRIPTION:Jubileo Circular en la Real Hermandad Servita
URL:https://realhermandadservita.com/event/jubileo-circular-en-la-real-hermandad-servita-5
END:VEVENT
BEGIN:VEVENT
DTSTART;TZID=Europe/Madrid:20250622T200000
DTEND;TZID=Europe/Madrid:20250622T203000
DTSTAMP:20260422T142537
CREATED:20250311T092714Z
LAST-MODIFIED:20250311T092714Z
UID:5845-1750622400-1750624200@realhermandadservita.com
SUMMARY:Triduo al Santísimo Cristo de la Providencia
DESCRIPTION:Triduo al Santísimo Cristo de la Providencia
URL:https://realhermandadservita.com/event/triduo-al-santisimo-cristo-de-la-providencia-5
END:VEVENT
END:VCALENDAR