BEGIN:VCALENDAR
VERSION:2.0
PRODID:-//Real Hermandad Servita - ECPv5.2.1//NONSGML v1.0//EN
CALSCALE:GREGORIAN
METHOD:PUBLISH
X-WR-CALNAME:Real Hermandad Servita
X-ORIGINAL-URL:https://realhermandadservita.com
X-WR-CALDESC:Eventos para Real Hermandad Servita
BEGIN:VTIMEZONE
TZID:Europe/Madrid
BEGIN:DAYLIGHT
TZOFFSETFROM:+0100
TZOFFSETTO:+0200
TZNAME:CEST
DTSTART:20240331T010000
END:DAYLIGHT
BEGIN:STANDARD
TZOFFSETFROM:+0200
TZOFFSETTO:+0100
TZNAME:CET
DTSTART:20241027T010000
END:STANDARD
END:VTIMEZONE
BEGIN:VEVENT
DTSTART;VALUE=DATE:20240427
DTEND;VALUE=DATE:20240428
DTSTAMP:20260424T184748
CREATED:20240222T110119Z
LAST-MODIFIED:20240222T110119Z
UID:4629-1714176000-1714262399@realhermandadservita.com
SUMMARY:XXIX Encuentro de Pascua Servita de Andalucía 2023 en Lucena (Córdoba)
DESCRIPTION:XXIX Encuentro de Pascua Servita de Andalucía 2023 en Lucena (Córdoba) \n\n\n	Relacionado
URL:https://realhermandadservita.com/event/xxix-encuentro-de-pascua-servita-de-andalucia-2023-en-lucena-cordoba
END:VEVENT
END:VCALENDAR