BEGIN:VCALENDAR
VERSION:2.0
PRODID:-//Real Hermandad Servita - ECPv5.2.1//NONSGML v1.0//EN
CALSCALE:GREGORIAN
METHOD:PUBLISH
X-WR-CALNAME:Real Hermandad Servita
X-ORIGINAL-URL:https://realhermandadservita.com
X-WR-CALDESC:Eventos para Real Hermandad Servita
BEGIN:VTIMEZONE
TZID:Europe/Madrid
BEGIN:DAYLIGHT
TZOFFSETFROM:+0100
TZOFFSETTO:+0200
TZNAME:CEST
DTSTART:20240331T010000
END:DAYLIGHT
BEGIN:STANDARD
TZOFFSETFROM:+0200
TZOFFSETTO:+0100
TZNAME:CET
DTSTART:20241027T010000
END:STANDARD
END:VTIMEZONE
BEGIN:VEVENT
DTSTART;TZID=Europe/Madrid:20240907T203000
DTEND;TZID=Europe/Madrid:20240907T213000
DTSTAMP:20260422T173444
CREATED:20240829T154502Z
LAST-MODIFIED:20240829T154502Z
UID:5042-1725741000-1725744600@realhermandadservita.com
SUMMARY:SOLEMNE FUNCIÓN EN HONOR DE NUESTRA SEÑORA DE SAN LORENZO
DESCRIPTION:SOLEMNE FUNCIÓN EN HONOR DE NUESTRA SEÑORA DE SAN LORENZO. \nPosterior convivencia con las Hermandades de la Redención y de Nuestra Sra. del Rocío del Cerro del Águila. \n\n\n	Relacionado
URL:https://realhermandadservita.com/event/solemne-funcion-en-honor-de-nuestra-senora-de-san-lorenzo
END:VEVENT
END:VCALENDAR