BEGIN:VCALENDAR
VERSION:2.0
PRODID:-//Real Hermandad Servita - ECPv5.2.1//NONSGML v1.0//EN
CALSCALE:GREGORIAN
METHOD:PUBLISH
X-WR-CALNAME:Real Hermandad Servita
X-ORIGINAL-URL:https://realhermandadservita.com
X-WR-CALDESC:Eventos para Real Hermandad Servita
BEGIN:VTIMEZONE
TZID:Europe/Madrid
BEGIN:DAYLIGHT
TZOFFSETFROM:+0100
TZOFFSETTO:+0200
TZNAME:CEST
DTSTART:20210328T010000
END:DAYLIGHT
BEGIN:STANDARD
TZOFFSETFROM:+0200
TZOFFSETTO:+0100
TZNAME:CET
DTSTART:20211031T010000
END:STANDARD
END:VTIMEZONE
BEGIN:VEVENT
DTSTART;TZID=Europe/Madrid:20210130T200000
DTEND;TZID=Europe/Madrid:20210130T210000
DTSTAMP:20260424T190131
CREATED:20201221T194510Z
LAST-MODIFIED:20201222T174836Z
UID:2083-1612036800-1612040400@realhermandadservita.com
SUMMARY:Sabatina\, Eucaristía de precepto y rezo de la Salve
DESCRIPTION:Sabatina\, Eucaristía de precepto y rezo de la Salve \n\n\n	Relacionado
URL:https://realhermandadservita.com/event/misa-la-familia-la-hermandad-6
END:VEVENT
END:VCALENDAR