BEGIN:VCALENDAR
VERSION:2.0
PRODID:-//Real Hermandad Servita - ECPv5.2.1//NONSGML v1.0//EN
CALSCALE:GREGORIAN
METHOD:PUBLISH
X-WR-CALNAME:Real Hermandad Servita
X-ORIGINAL-URL:https://realhermandadservita.com
X-WR-CALDESC:Eventos para Real Hermandad Servita
BEGIN:VTIMEZONE
TZID:Europe/Madrid
BEGIN:DAYLIGHT
TZOFFSETFROM:+0100
TZOFFSETTO:+0200
TZNAME:CEST
DTSTART:20240331T010000
END:DAYLIGHT
BEGIN:STANDARD
TZOFFSETFROM:+0200
TZOFFSETTO:+0100
TZNAME:CET
DTSTART:20241027T010000
END:STANDARD
END:VTIMEZONE
BEGIN:VEVENT
DTSTART;TZID=Europe/Madrid:20240309T200000
DTEND;TZID=Europe/Madrid:20240309T203000
DTSTAMP:20260423T112129
CREATED:20240222T080107Z
LAST-MODIFIED:20240222T080107Z
UID:4591-1710014400-1710016200@realhermandadservita.com
SUMMARY:Eucaristía semanal en la Parroquia de San Marcos por montaje de pasos en la capilla
DESCRIPTION:Eucaristía semanal en la Parroquia de San Marcos por montaje de pasos en la capilla \n\n\n	Relacionado
URL:https://realhermandadservita.com/event/eucaristia-semanal-en-la-parroquia-de-san-marcos-por-montaje-de-pasos-en-la-capilla
END:VEVENT
END:VCALENDAR