BEGIN:VCALENDAR
VERSION:2.0
PRODID:-//Real Hermandad Servita - ECPv5.2.1//NONSGML v1.0//EN
CALSCALE:GREGORIAN
METHOD:PUBLISH
X-WR-CALNAME:Real Hermandad Servita
X-ORIGINAL-URL:https://realhermandadservita.com
X-WR-CALDESC:Eventos para Real Hermandad Servita
BEGIN:VTIMEZONE
TZID:Europe/Madrid
BEGIN:DAYLIGHT
TZOFFSETFROM:+0100
TZOFFSETTO:+0200
TZNAME:CEST
DTSTART:20240331T010000
END:DAYLIGHT
BEGIN:STANDARD
TZOFFSETFROM:+0200
TZOFFSETTO:+0100
TZNAME:CET
DTSTART:20241027T010000
END:STANDARD
END:VTIMEZONE
BEGIN:VEVENT
DTSTART;TZID=Europe/Madrid:20240427T200000
DTEND;TZID=Europe/Madrid:20240427T203000
DTSTAMP:20260424T224558
CREATED:20240222T104125Z
LAST-MODIFIED:20240222T104125Z
UID:4627-1714248000-1714249800@realhermandadservita.com
SUMMARY:Eucaristía semanal con rezo previo de la Sabatina. Celebración de la Festividad de San Marcos\, titular de la Real Hermandad Servita
DESCRIPTION:Eucaristía semanal con rezo previo de la Sabatina. Celebración de la Festividad de San Marcos\, titular de la Real Hermandad Servita \n\n\n	Relacionado
URL:https://realhermandadservita.com/event/eucaristia-semanal-con-rezo-previo-de-la-sabatina-celebracion-de-la-festividad-de-san-marcos-titular-de-la-real-hermandad-servita
END:VEVENT
END:VCALENDAR