BEGIN:VCALENDAR
VERSION:2.0
PRODID:-//Real Hermandad Servita - ECPv5.2.1//NONSGML v1.0//EN
CALSCALE:GREGORIAN
METHOD:PUBLISH
X-WR-CALNAME:Real Hermandad Servita
X-ORIGINAL-URL:https://realhermandadservita.com
X-WR-CALDESC:Eventos para Real Hermandad Servita
BEGIN:VTIMEZONE
TZID:Europe/Madrid
BEGIN:DAYLIGHT
TZOFFSETFROM:+0100
TZOFFSETTO:+0200
TZNAME:CEST
DTSTART:20210328T010000
END:DAYLIGHT
BEGIN:STANDARD
TZOFFSETFROM:+0200
TZOFFSETTO:+0100
TZNAME:CET
DTSTART:20211031T010000
END:STANDARD
END:VTIMEZONE
BEGIN:VEVENT
DTSTART;TZID=Europe/Madrid:20210626T203000
DTEND;TZID=Europe/Madrid:20210626T210000
DTSTAMP:20260423T084118
CREATED:20210524T151034Z
LAST-MODIFIED:20210524T151034Z
UID:2249-1624739400-1624741200@realhermandadservita.com
SUMMARY:Eucaristía de Hermandad
DESCRIPTION:Eucaristía de Hermandad \n\n\n	Relacionado
URL:https://realhermandadservita.com/event/eucaristia-de-hermandad-20
END:VEVENT
END:VCALENDAR