BEGIN:VCALENDAR
VERSION:2.0
PRODID:-//Real Hermandad Servita - ECPv5.2.1//NONSGML v1.0//EN
CALSCALE:GREGORIAN
METHOD:PUBLISH
X-WR-CALNAME:Real Hermandad Servita
X-ORIGINAL-URL:https://realhermandadservita.com
X-WR-CALDESC:Eventos para Real Hermandad Servita
BEGIN:VTIMEZONE
TZID:Europe/Madrid
BEGIN:DAYLIGHT
TZOFFSETFROM:+0100
TZOFFSETTO:+0200
TZNAME:CEST
DTSTART:20210328T010000
END:DAYLIGHT
BEGIN:STANDARD
TZOFFSETFROM:+0200
TZOFFSETTO:+0100
TZNAME:CET
DTSTART:20211031T010000
END:STANDARD
END:VTIMEZONE
BEGIN:VEVENT
DTSTART;TZID=Europe/Madrid:20211106T103000
DTEND;TZID=Europe/Madrid:20211106T140000
DTSTAMP:20260424T021440
CREATED:20210914T123131Z
LAST-MODIFIED:20210914T123131Z
UID:2559-1636194600-1636207200@realhermandadservita.com
SUMMARY:Encuentro de Grupos Joven del Sábado Santo
DESCRIPTION:Encuentro de Grupos Joven del Sábado Santo \n\n\n	Relacionado
URL:https://realhermandadservita.com/event/encuentro-de-grupos-joven-del-sabado-santo
END:VEVENT
END:VCALENDAR