BEGIN:VCALENDAR
VERSION:2.0
PRODID:-//Real Hermandad Servita - ECPv5.2.1//NONSGML v1.0//EN
CALSCALE:GREGORIAN
METHOD:PUBLISH
X-WR-CALNAME:Real Hermandad Servita
X-ORIGINAL-URL:https://realhermandadservita.com
X-WR-CALDESC:Eventos para Real Hermandad Servita
BEGIN:VTIMEZONE
TZID:Europe/Madrid
BEGIN:DAYLIGHT
TZOFFSETFROM:+0100
TZOFFSETTO:+0200
TZNAME:CEST
DTSTART:20240331T010000
END:DAYLIGHT
BEGIN:STANDARD
TZOFFSETFROM:+0200
TZOFFSETTO:+0100
TZNAME:CET
DTSTART:20241027T010000
END:STANDARD
END:VTIMEZONE
BEGIN:VEVENT
DTSTART;TZID=Europe/Madrid:20240324T100000
DTEND;TZID=Europe/Madrid:20240324T140000
DTSTAMP:20260424T035452
CREATED:20240222T082342Z
LAST-MODIFIED:20240222T082342Z
UID:4611-1711274400-1711288800@realhermandadservita.com
SUMMARY:Domingo de Ramos. Apertura de la Capilla para ver los Pasos
DESCRIPTION:Domingo de Ramos. Apertura de la Capilla para ver los Pasos \n\n\n	Relacionado
URL:https://realhermandadservita.com/event/domingo-de-ramos-apertura-de-la-capilla-para-ver-los-pasos
END:VEVENT
END:VCALENDAR