BEGIN:VCALENDAR
VERSION:2.0
PRODID:-//Real Hermandad Servita - ECPv5.2.1//NONSGML v1.0//EN
CALSCALE:GREGORIAN
METHOD:PUBLISH
X-WR-CALNAME:Real Hermandad Servita
X-ORIGINAL-URL:https://realhermandadservita.com
X-WR-CALDESC:Eventos para Real Hermandad Servita
BEGIN:VTIMEZONE
TZID:Europe/Madrid
BEGIN:DAYLIGHT
TZOFFSETFROM:+0100
TZOFFSETTO:+0200
TZNAME:CEST
DTSTART:20240331T010000
END:DAYLIGHT
BEGIN:STANDARD
TZOFFSETFROM:+0200
TZOFFSETTO:+0100
TZNAME:CET
DTSTART:20241027T010000
END:STANDARD
END:VTIMEZONE
BEGIN:VEVENT
DTSTART;TZID=Europe/Madrid:20240509T200000
DTEND;TZID=Europe/Madrid:20240509T203000
DTSTAMP:20260425T003403
CREATED:20240222T110756Z
LAST-MODIFIED:20240429T065605Z
UID:4639-1715284800-1715286600@realhermandadservita.com
SUMMARY:¿Tiene sentido hoy usar el latín en la iglesia?: "El latín en la liturgia católica"
DESCRIPTION:¿Tiene sentido hoy usar el latín en la iglesia?: «El latín en la liturgia católica» \n\n\n	Relacionado
URL:https://realhermandadservita.com/event/charla-formativa-de-primavera-3
END:VEVENT
END:VCALENDAR