BEGIN:VCALENDAR
VERSION:2.0
PRODID:-//Real Hermandad Servita - ECPv5.2.1//NONSGML v1.0//EN
CALSCALE:GREGORIAN
METHOD:PUBLISH
X-WR-CALNAME:Real Hermandad Servita
X-ORIGINAL-URL:https://realhermandadservita.com
X-WR-CALDESC:Eventos para Real Hermandad Servita
BEGIN:VTIMEZONE
TZID:Europe/Madrid
BEGIN:DAYLIGHT
TZOFFSETFROM:+0100
TZOFFSETTO:+0200
TZNAME:CEST
DTSTART:20220327T010000
END:DAYLIGHT
BEGIN:STANDARD
TZOFFSETFROM:+0200
TZOFFSETTO:+0100
TZNAME:CET
DTSTART:20221030T010000
END:STANDARD
END:VTIMEZONE
BEGIN:VEVENT
DTSTART;TZID=Europe/Madrid:20220220T170000
DTEND;TZID=Europe/Madrid:20220220T203000
DTSTAMP:20260426T031830
CREATED:20220126T090616Z
LAST-MODIFIED:20220126T090616Z
UID:2886-1645376400-1645389000@realhermandadservita.com
SUMMARY:Besapiés al Santísimo Cristo de la Providencia
DESCRIPTION:Besapiés al Santísimo Cristo de la Providencia \n\n\n	Relacionado
URL:https://realhermandadservita.com/event/besapies-al-santisimo-cristo-de-la-providencia-2
END:VEVENT
END:VCALENDAR